BEGIN:VCALENDAR
VERSION:2.0
PRODID:-//Le Guide del Golfo - ECPv6.12.0.1//NONSGML v1.0//EN
CALSCALE:GREGORIAN
METHOD:PUBLISH
X-ORIGINAL-URL:https://www.guidedelgolfo.com
X-WR-CALDESC:Eventi per Le Guide del Golfo
REFRESH-INTERVAL;VALUE=DURATION:PT1H
X-Robots-Tag:noindex
X-PUBLISHED-TTL:PT1H
BEGIN:VTIMEZONE
TZID:Europe/Rome
BEGIN:DAYLIGHT
TZOFFSETFROM:+0100
TZOFFSETTO:+0200
TZNAME:CEST
DTSTART:20250330T010000
END:DAYLIGHT
BEGIN:STANDARD
TZOFFSETFROM:+0200
TZOFFSETTO:+0100
TZNAME:CET
DTSTART:20251026T010000
END:STANDARD
END:VTIMEZONE
BEGIN:VEVENT
DTSTART;TZID=Europe/Rome:20250704T180000
DTEND;TZID=Europe/Rome:20250704T210000
DTSTAMP:20260423T122150
CREATED:20250530T213641Z
LAST-MODIFIED:20250530T213641Z
UID:3079-1751652000-1751662800@www.guidedelgolfo.com
SUMMARY:In kayak al tramonto: affascinante escursione  nell'Area Marina Protetta dell'Isola di Bergeggi
DESCRIPTION:Scopri un’esperienza indimenticabile: un’escursione in kayak al tramonto tra le acque cristalline dell’Area Marina Protetta dell’Isola di Bergeggi. Pagaiando lungo la costa ligure\, vivrai uno dei momenti più suggestivi della giornata: il sole che lentamente cala dietro l’orizzonte\, tingendo il cielo di arancio\, rosa e oro. \nPerché fare kayak nell’Area Marina Protetta di Bergeggi al tramonto\nNavigare in kayak nell’Area Marina Protetta di Bergeggi al tramonto è un’esperienza che unisce sport\, natura e meraviglia visiva. Lontano dal turismo di massa\, potrai pagaiare in totale tranquillità tra acque trasparenti\, grotte marine e scorci incontaminati\, mentre il sole cala lentamente sul mare. I colori del tramonto — caldi\, intensi e in continua trasformazione — riflettono sulla superficie dell’acqua\, creando un’atmosfera quasi surreale. È il momento ideale per vivere il mare in modo autentico\, sostenibile e profondamente emozionante. \nUn’esperienza perfetta per coppie\, gruppi di amici o amanti della natura che desiderano vivere il mare in un modo autentico e coinvolgente. \nCosa include l’escursione in kayak nell’Area Marina Protetta \n\n\nTour guidato in kayak con istruttori esperti \n\n\nAttrezzatura completa (kayak\, pagaia\, giubbotto salvagente) \n\n\nAssicurazione e briefing iniziale \n\n\nSoste fotografiche nei punti panoramici \n\n\nPossibilità di bagno al tramonto \n\n\nDurata: Circa 2 ore e mezza Livello di difficoltà: Facile – adatto anche a principianti \nServizi inclusi in spiaggia\nAl termine\, potrai approfittare dei servizi in spiaggia: docce\, spogliatoi\, deposito sicuro\, bar e ristorante vista mare.L’attività è disponibile in italiano\, inglese\, tedesco e francese. \nCome partecipare all’evento\nLe escursioni kayak al tramonto sono disponibili su prenotazione in date selezionate. \nI gruppi sono volutamente ridotti per garantire un’esperienza personalizzata\, sicura e coinvolgente. \n👉 Prenota subito il tuo posto per vivere il mare in modo diverso!WhatsApp: +39 344 467 7670Email: ilgolfooutdoor@guidedelgolfo.com \nScopri altri eventi e attività outdoor\nQuesta esperienza è solo una delle proposte firmate Guide del Golfo. Scopri anche le altre nostre proposte legate al mare\, trekking ed escursioni naturalistiche\, visite guidate ed altre attività per vivere il meglio della Liguria\, tra mare\, sentieri e splendidi borghi medievali.
URL:https://www.guidedelgolfo.com/evento/in-kayak-al-tramonto-affascinante-escursione-nellarea-marina-protetta-dellisola-di-bergeggi-3/
LOCATION:Bagni Kontiki\, via Maremma 1\, Spotorno\, SV\, 17028\, Italy
CATEGORIES:KAYAK
ATTACH;FMTTYPE=image/jpeg:https://www.guidedelgolfo.com/wp-content/uploads/2025/01/vert-1-canoa-tramonto.jpg
END:VEVENT
BEGIN:VEVENT
DTSTART;TZID=Europe/Rome:20250704T201500
DTEND;TZID=Europe/Rome:20250704T230000
DTSTAMP:20260423T122150
CREATED:20250625T151628Z
LAST-MODIFIED:20250625T154225Z
UID:3236-1751660100-1751670000@www.guidedelgolfo.com
SUMMARY:Un salto nel Medioevo. Visita teatralizzata a Noli
DESCRIPTION:La visita teatralizzata a Noli : Un salto nel Medioevo  è un’esperienza unica tra storia\, natura e spettacolo!\nDopo una suggestiva passeggiata serale a Noli\, uno dei borghi marinari più affascinanti della Liguria\, ci immergeremo nel fascino del passato con un percorso guidato tra scorci mozzafiato e racconti storici\, fino a raggiungere il maestoso Castello di Monte Ursino. \nLì\, ad aspettarci\, Maria Rosa Marsilio nelle vesti della marchesa Beatrice del Carretto che ci narrerà le vicende e i segreti di questa carismatica figura femminile\, il tutto con la magia del cielo stellato sulla baia di Noli. La visita si trasformerà in un viaggio nel tempo tra realtà e immaginazione. \nInfo e prenotazioni \nLuogo: Noli (SV)\nOrario: 20:30\nCosto: €25\nLivello escursione: medio/ facile\nLunghezza: 4km circa\nDislivello: 180m \nSi consiglia: Scarpe da trekking o con suola scolpita\, acqua\, repellente per insetti \nPrenota subito il tuo posto al n. 3711553580 \nPerché partecipare? \nScopri il borgo medievale di Noli da un punto di vista unico\nVivi la storia con una visita animata da un’ interprete in costume\nGoditi un’escursione tra natura\, arte e panorami spettacolari \nAdatto a chi ama scoprire la Liguria con occhi nuovi \nUn viaggio nel tempo ti aspetta\, tra emozioni\, cultura e bellezza tutta ligure.\nEvento organizzato da Le Guide del Golfo in collaborazione con La Baia del Sole. \nScopri altri eventi e attività outdoor\nScopri  le altre nostre proposte legate al mare\, trekking ed escursioni naturalistiche\, visite guidate ed altre attività per vivere il meglio della Liguria\, tra mare\, sentieri e splendidi borghi medievali.
URL:https://www.guidedelgolfo.com/evento/un-salto-nel-medioevo-visita-teatralizzata-a-noli/
LOCATION:Varigotti\, Varigotti\, Finale Ligure\, Savona\, Italy
ATTACH;FMTTYPE=image/jpeg:https://www.guidedelgolfo.com/wp-content/uploads/2025/06/IMG-20250624-WA0012.jpg
END:VEVENT
END:VCALENDAR