BEGIN:VCALENDAR
VERSION:2.0
PRODID:-//Le Guide del Golfo - ECPv6.12.0.1//NONSGML v1.0//EN
CALSCALE:GREGORIAN
METHOD:PUBLISH
X-WR-CALNAME:Le Guide del Golfo
X-ORIGINAL-URL:https://www.guidedelgolfo.com
X-WR-CALDESC:Eventi per Le Guide del Golfo
REFRESH-INTERVAL;VALUE=DURATION:PT1H
X-Robots-Tag:noindex
X-PUBLISHED-TTL:PT1H
BEGIN:VTIMEZONE
TZID:Europe/Rome
BEGIN:DAYLIGHT
TZOFFSETFROM:+0100
TZOFFSETTO:+0200
TZNAME:CEST
DTSTART:20260329T010000
END:DAYLIGHT
BEGIN:STANDARD
TZOFFSETFROM:+0200
TZOFFSETTO:+0100
TZNAME:CET
DTSTART:20261025T010000
END:STANDARD
END:VTIMEZONE
BEGIN:VEVENT
DTSTART;TZID=Europe/Rome:20260502T173000
DTEND;TZID=Europe/Rome:20260502T173000
DTSTAMP:20260420T003827
CREATED:20260417T163747Z
LAST-MODIFIED:20260417T164041Z
UID:4050-1777743000-1777743000@www.guidedelgolfo.com
SUMMARY:Trekking e Teatro. La festa di Santa Caterina a Garlenda
DESCRIPTION:Trekking e Teatro a Garlenda\nTorna la tanto attesa Festa di Santa Caterina nella suggestiva Borgata Castelli di Garlenda\, con un evento speciale che unisce natura\, cultura e tradizione. \nPer l’occasione\, i partecipanti potranno raggiungere la borgata con un piacevole trekking guidato tra le borgate storiche\, accompagnati da una nostra guida ambientale escursionistica. Un percorso semplice e adatto a tutti\, immerso nel paesaggio ligure\, che permetterà di scoprire curiosità e storia del territorio. \nUna volta giunti a destinazione\, il borgo si animerà grazie a un teatro itinerante tra le sue vie: la compagnia teatrale “I belli… che andeti” metterà in scena divertenti sketch in dialetto\, raccontando la storia di Garlenda e il suo legame con le antiche Vie del Sale. \nLa serata proseguirà con uno dei momenti più attesi della festa: il tradizionale falò delle ore 22:00\, simbolo di comunità e convivialità. \nProgramma\n\nOre 17:15 – Ritrovo e partenza presso il Palazzo Comunale (Borgata Ponte\, Garlenda)\nOre 19:00 circa – Arrivo alla Borgata Castelli e inizio spettacolo teatrale itinerante\nOre 20:00 – Apertura stand gastronomici (facoltativa partecipazione alla sagra)\nOre 22:00 – Accensione del falò\n\nDettagli tecnici\n\nDurata escursione: circa 3 ore (incluse soste e interventi teatrali)\nLunghezza: 6\,5 km\nDislivello: 150 m\nDifficoltà: facile\, adatto a tutti\n\nInformazioni utili\n\nPartecipazione gratuita\, nell’ambito delle iniziative di promozione delle Antiche Vie del Sale\, sostenute dalla Fondazione De Mari\nPrenotazione obbligatoria tramite form\nSi consiglia di portare una torcia per il rientro\n\nIl rientro potrà avvenire insieme alla guida oppure in autonomia. In entrambi i casi\, considerare circa 1 ora di cammino per tornare al punto di partenza. \n 
URL:https://www.guidedelgolfo.com/evento/trekking-e-teatro-la-festa-di-santa-caterina-a-garlenda/
LOCATION:Garlenda
ATTACH;FMTTYPE=image/jpeg:https://www.guidedelgolfo.com/wp-content/uploads/2026/04/GArlenda.jpeg
END:VEVENT
END:VCALENDAR