BEGIN:VCALENDAR
VERSION:2.0
PRODID:-//Le Guide del Golfo - ECPv6.12.0.1//NONSGML v1.0//EN
CALSCALE:GREGORIAN
METHOD:PUBLISH
X-ORIGINAL-URL:https://www.guidedelgolfo.com
X-WR-CALDESC:Eventi per Le Guide del Golfo
REFRESH-INTERVAL;VALUE=DURATION:PT1H
X-Robots-Tag:noindex
X-PUBLISHED-TTL:PT1H
BEGIN:VTIMEZONE
TZID:Europe/Rome
BEGIN:DAYLIGHT
TZOFFSETFROM:+0100
TZOFFSETTO:+0200
TZNAME:CEST
DTSTART:20260329T010000
END:DAYLIGHT
BEGIN:STANDARD
TZOFFSETFROM:+0200
TZOFFSETTO:+0100
TZNAME:CET
DTSTART:20261025T010000
END:STANDARD
END:VTIMEZONE
BEGIN:VEVENT
DTSTART;TZID=Europe/Rome:20260809T200000
DTEND;TZID=Europe/Rome:20260809T230000
DTSTAMP:20260421T064808
CREATED:20260414T154123Z
LAST-MODIFIED:20260414T154123Z
UID:3855-1786305600-1786316400@www.guidedelgolfo.com
SUMMARY:Trekking e Teatro. "In una selva oscura". Daniele De Bernardi racconta Dante.
DESCRIPTION:Dopo il successo della rappresentazione dell’Inferno di Dante\, a cura di Daniele De Bernardi\, fondatore del Teatrino dell’Erba Matta\, l’attore ritorna a Bergeggi con un nuovo coinvolgente racconto dedicato alla  Divina Commedia. \nA fare da cornice allo spettacolo saranno le suggestive alture del Monte Rocchetto\, raggiunte attraverso un affascinante trekking notturno. I partecipanti\, accompagnati da una guida ambientale escursionistica (GAE)\, partiranno dalla località Torre d’Ere di Bergeggi per attraversare il bosco e giungere fino alla pista di decollo dei parapendio\, nei pressi dell’ex Forte Sant’Elena\, dove si svolgerà la rappresentazione. \nCosa portare:scarpe da trekking\, torcia\, repellente per insetti\, tappetino o cuscino per sedersi e godersi lo spettacolo. Bastoncini da trekking consigliati per chi è abituato a utilizzarli.
URL:https://www.guidedelgolfo.com/evento/trekking-e-teatro-in-una-selva-oscura-daniele-de-bernardi-racconta-dante/
LOCATION:Bar Geggi\, via Torre d'Ere\, Bergeggi\, Italy
CATEGORIES:Trekking e Teatro
ATTACH;FMTTYPE=image/jpeg:https://www.guidedelgolfo.com/wp-content/uploads/2026/04/IMG-20260408-WA0012.jpg
END:VEVENT
END:VCALENDAR